BEGIN:VCALENDAR
VERSION:2.0
PRODID:Events Booking
BEGIN:VEVENT
UID:69ebad4aaa67e
SUMMARY:2026 SOHO Hotel Ontario Wheelchair Doubles Squash Championships
DESCRIPTION:Open to any wheelchair athlete in the Province of Ontario who h
 as been a resident for a minimum of 6 months from the 1st day of competiti
 on\, subject to confirmation of eligibility.
LOCATION:141 Wilson Avenue\, Toronto\, M5M 3A3 Ontario\, Canada
DTSTART:20260517T120000Z
DTEND:20260525T020000Z
DTSTAMP:20260424T182019Z
ORGANIZER;CN=Parasport Ontario:MAILTO:news@parasportontario.ca
GEO:43.739827;-79.418975
X-APPLE-STRUCTURED-LOCATION;VALUE=URI;X-ADDRESS=141 Wilson Avenue\, Toronto
 \, M5M 3A3 Ontario\, Canada;X-APPLE-RADIUS=72;X-TITLE=Toronto Cricket Club
 :43.739827;-79.418975
END:VEVENT
END:VCALENDAR