BEGIN:VCALENDAR
VERSION:2.0
PRODID:Events Booking
BEGIN:VEVENT
UID:69e9054dd47c3
SUMMARY:aMTB Camp
DESCRIPTION:Adapted Mountain Biking Camp - Presented by Handcycling Club of
  Canada. HCC will be hosting a weekend of adaptive mountain bike riding at
  LP Eco Centre. There will be a learn to ride aMTB camp for beginners as w
 ell as rides for intermediate riders\, a demo day/ group ride\, and advanc
 ed group ride at the beautiful Turkey Point MTB Club trails.  Equipment an
 d instruction provided.  Register early to ensure a spot.
LOCATION:1730 Front Rd\, Turkey Point\, ON N0E 1P0\, Canada
DTSTART:20260508T040000Z
DTEND:20260510T040000Z
DTSTAMP:20260306T010054Z
ORGANIZER;CN=Parasport Ontario:MAILTO:news@parasportontario.ca
GEO:42.688648;-80.348259
X-APPLE-STRUCTURED-LOCATION;VALUE=URI;X-ADDRESS=1730 Front Rd\, Turkey Poin
 t\, ON N0E 1P0\, Canada;X-APPLE-RADIUS=72;X-TITLE=Long Point Eco Adventure
  Centre:42.688648;-80.348259
END:VEVENT
END:VCALENDAR