BEGIN:VCALENDAR
VERSION:2.0
PRODID:Events Booking
BEGIN:VEVENT
UID:69e919c5a0c49
SUMMARY:Redefine\, Re-Imagine\, Re-Ignite: Flex for Access leveraging Impac
 t
DESCRIPTION:Join us at Vaughan Studios & Event Space\, starting at 7:30pm f
 or an evening of inspiration\, collaboration\, and challenging thought lea
 dership. This event is a culmination of fitness & sport industry leaders c
 oming together to share their work and insights\, identify gaps and challe
 nges in the delivery of adaptive fitness opportunities in the mainstream a
 nd acknowledging its transformational impact on their careers and the live
 s of clients. 
LOCATION:200 Apple Mill Road #3rd Floor Vaughan\, ON L4K 5Z5 Canada
DTSTART:20260423T233000Z
DTEND:20260424T023000Z
DTSTAMP:20250828T223654Z
ORGANIZER;CN=Parasport Ontario:MAILTO:news@parasportontario.ca
GEO:43.795733;-79.531396
X-APPLE-STRUCTURED-LOCATION;VALUE=URI;X-ADDRESS=200 Apple Mill Road #3rd Fl
 oor Vaughan\, ON L4K 5Z5 Canada;X-APPLE-RADIUS=72;X-TITLE=Vaughan Studios 
 & Event Space:43.795733;-79.531396
END:VEVENT
END:VCALENDAR