BEGIN:VCALENDAR
VERSION:2.0
PRODID:Events Booking
BEGIN:VEVENT
UID:69e52799952e8
SUMMARY:2026 Wheelchair Rugby National Championships
DESCRIPTION:Join us from May 15-17th\, 2026 at Carleton University for the 
 2026 Wheelchair Rugby National Championships! Whether you’re an aspiring
  player\, a fan of the sport\, or want to see what wheelchair rugby is all
  about\, come support the best athletes in the nation! Please visit us for
  in depth schedule information\, and for volunteer roles and media access!
LOCATION:1125 Colonel By Drive\, Ottawa\, K1S 5B6 Ontario\, Canada
DTSTART:20260515T120000Z
DTEND:20260518T000000Z
DTSTAMP:20260228T000029Z
ORGANIZER;CN=Parasport Ontario:MAILTO:news@parasportontario.ca
GEO:45.385485;-75.69428
X-APPLE-STRUCTURED-LOCATION;VALUE=URI;X-ADDRESS=1125 Colonel By Drive\, Ott
 awa\, K1S 5B6 Ontario\, Canada;X-APPLE-RADIUS=72;X-TITLE=Abilities Centre 
 at Carleton:45.385485;-75.69428
END:VEVENT
END:VCALENDAR